BEGIN:VCALENDAR
VERSION:2.0
PRODID:-//University of Otago\, Mathematics and Statistics//NONSGML UOJMC 
 Calendar//EN
CALSCALE:GREGORIAN
BEGIN:VEVENT
SUMMARY:UOJMC Competition Day
DTSTART;VALUE=DATE:20170405
DTEND;VALUE=DATE:20170405
DTSTAMP;VALUE=DATE-TIME:20170130T005020Z
CLASS:PUBLIC
CREATED;VALUE=DATE-TIME:20170130T005020Z
DESCRIPTION:Competition is not to be sat before this day. If competition i
 s sat after this day\, entrants will not be eligible for prizes.
END:VEVENT
BEGIN:VEVENT
SUMMARY:UOJMC Physical Competition Entries Due
DTSTART;VALUE=DATE:20170315
DTEND;VALUE=DATE:20170315
DTSTAMP;VALUE=DATE-TIME:20170130T005020Z
CLASS:PUBLIC
CREATED;VALUE=DATE-TIME:20170130T005020Z
DESCRIPTION:Late entries will be accepted on the discretion of the competi
 tion organisers only. Note that an email entry is sufficient\, although nu
 mbers are essential! Remember to contact us with your entry in  more than 
 one way (recommended: email and fax). Digital entries after this date are 
 possible until Friday March 31.
END:VEVENT
BEGIN:VEVENT
SUMMARY:UOJMC Digital Competition Entries Due
DTSTART;VALUE=DATE:20170331
DTEND;VALUE=DATE:20170331
DTSTAMP;VALUE=DATE-TIME:20170130T005020Z
CLASS:PUBLIC
CREATED;VALUE=DATE-TIME:20170130T005020Z
DESCRIPTION:Late entries will be accepted on the discretion of the competi
 tion organisers only. Note that an email entry is sufficient\, although nu
 mbers are essential!
END:VEVENT
BEGIN:VEVENT
SUMMARY:UOJMC Papers Sent to Schools
DTSTART;VALUE=DATE:20170328
DTEND;VALUE=DATE:20170328
DTSTAMP;VALUE=DATE-TIME:20170130T005020Z
CLASS:PUBLIC
CREATED;VALUE=DATE-TIME:20170130T005020Z
DESCRIPTION:Papers (for schools with physical entries) should arrive on Fr
 iday March 31.
END:VEVENT
BEGIN:VEVENT
SUMMARY:UOJMC Papers Arrive at Schools
DTSTART;VALUE=DATE:20170331
DTEND;VALUE=DATE:20170331
DTSTAMP;VALUE=DATE-TIME:20170130T005020Z
CLASS:PUBLIC
CREATED;VALUE=DATE-TIME:20170130T005020Z
DESCRIPTION:If papers (for schools with physical entries) do not arrive on
  or before this day\, contact the competition organisers as soon as possib
 le.
END:VEVENT
BEGIN:VEVENT
SUMMARY:Last day for UOJMC papers to return to University of Otago
DTSTART;VALUE=DATE:20170414
DTEND;VALUE=DATE:20170414
DTSTAMP;VALUE=DATE-TIME:20170130T005020Z
CLASS:PUBLIC
CREATED;VALUE=DATE-TIME:20170130T005020Z
DESCRIPTION:We cannot guarantee the grading of papers that we receive afte
 r this date.
END:VEVENT
END:VCALENDAR
